BEGIN:VCALENDAR
VERSION:2.0
PRODID:-//machigurashi.jp - ECPv5.16.3.1//NONSGML v1.0//EN
CALSCALE:GREGORIAN
METHOD:PUBLISH
X-WR-CALNAME:machigurashi.jp
X-ORIGINAL-URL:https://machigurashi.jp
X-WR-CALDESC:machigurashi.jp のイベント
BEGIN:VTIMEZONE
TZID:Asia/Tokyo
BEGIN:STANDARD
TZOFFSETFROM:+0900
TZOFFSETTO:+0900
TZNAME:JST
DTSTART:20160101T000000
END:STANDARD
END:VTIMEZONE
BEGIN:VEVENT
DTSTART;TZID=Asia/Tokyo:20161213T100000
DTEND;TZID=Asia/Tokyo:20161213T113000
DTSTAMP:20260426T005829
CREATED:20161122T053931Z
LAST-MODIFIED:20161122T054157Z
UID:31057-1481623200-1481628600@machigurashi.jp
SUMMARY:okatteにしおぎ見学会
DESCRIPTION:【okatteにしおぎの事業にご興味のあるかたへ】 \nokatteにしおぎの成り立ち、運営の仕組みなどについて、コーディネーターのN9.5（まち暮らし不動産）がお話しします。\nメンバー・入居などの方むけではなく、「見てみたい」「知りたい」という方にお越しいただく会です。\nokatteにしおぎのメンバーに参加したい方は、「メンバー説明会」のほうにご参加下さい。\n（メンバー説明会の日程はokatteにしおぎ公式サイトに随時掲載されます） \n■okatteにしおぎ　について\n2×4工法の既存戸建住宅を一部増築し、リノベーションしたプロジェクトです。\n2階を賃貸住戸とする一方、1階は住人だけでなく地域のひとが共に使うキッチンとリビング（＝パブリックコモンスペース）としました。\nまちの人と食事をともにする「まち食」をおこなったり、食に関連するイベント（地元産の食材や地方産地の食材を紹介するなど）を開催するだけでなく、多目的な板の間のリビングスペースでは様々な分野のイベントも実施可能。キッチンは飲食店の営業許可を取得し、食の小商いの拠点としても利用できます。 \nパブリックコモンスペースは多様なメンバーがあつまるメンバーシップ制となっており、okatteをまちに開いていくことを楽しみつつ、維持運営を担います。 \nリノベーションにあたっては、増築部分の草屋根、オフグリッドの太陽光発電システム、雨水利用など、住宅街でも実現できる環境共生のための工夫をいたしました。増築部分と既存建物の間には東京奥多摩で切り出した木材を大黒柱として配置するなど、素材の地産地消も意識しました。 \n  \n【okatteにしおぎ見学説明会】\n日時：2016/12/13（火）10:00～11:30\n内容：okatteにしおぎの成り立ち、運営の仕組みなど、質疑\n参加費：おひとり1\,500円（okatte環境整備協力金として） \n※ お車でお越しの際には、近隣コインパーキングをご利用下さい。\n※ 2階賃貸住戸につきましては、現在募集はございません。 \n  \n【参加申込方法】\n以下のいずれかでお申込みください。\n１）フォームからお申し込み\n２）メールにてお申し込み（以下の内容をwelcome@n95.jpまでお送り下さい） \n＜メールでの申込内容＞\n・参加希望の日時\n・貴社名\n・お名前\n・ご連絡先（電話番号）\n・ご興味の内容などコメント
URL:https://machigurashi.jp/event/2016112214393131057
LOCATION:okatteにしおぎ\, 宮前5-9-8\, 杉並区\, 東京都\, 168-0081\, Japan
CATEGORIES:見学会
ATTACH;FMTTYPE=image/jpeg:https://machigurashi.jp/wp-content/uploads/0526-271.jpg
END:VEVENT
END:VCALENDAR