BEGIN:VCALENDAR
VERSION:2.0
PRODID:-//machigurashi.jp - ECPv5.16.3.1//NONSGML v1.0//EN
CALSCALE:GREGORIAN
METHOD:PUBLISH
X-WR-CALNAME:machigurashi.jp
X-ORIGINAL-URL:https://machigurashi.jp
X-WR-CALDESC:machigurashi.jp のイベント
BEGIN:VTIMEZONE
TZID:Asia/Tokyo
BEGIN:STANDARD
TZOFFSETFROM:+0900
TZOFFSETTO:+0900
TZNAME:JST
DTSTART:20170101T000000
END:STANDARD
END:VTIMEZONE
BEGIN:VEVENT
DTSTART;TZID=Asia/Tokyo:20170204T180000
DTEND;TZID=Asia/Tokyo:20170204T210000
DTSTAMP:20260426T040728
CREATED:20170125T022759Z
LAST-MODIFIED:20170125T024111Z
UID:31077-1486231200-1486242000@machigurashi.jp
SUMMARY:庭コーポラってなあに？　/ 家と家・家と庭を考えるワークショップ
DESCRIPTION:ーーー\nこのワークショップは、「筑波ヤマオウproject」の\n庭コーポラを知っていただくために開催していますが、\n今回はまず、それに限らず、\nこれから家づくりを考える方、\n家の買い方・作り方についての、新しい選択肢を体験してみたい方の\nご参加もどうぞ！\nーーー \nいっせーのーせで、土地を買う。\nそれぞれの土地に、それぞれ家を建てるけど、\n家と家の「あいだ」を、考えながら、同時に作る。\nそんな家の作りかた、”庭コーポラ”と名付けてみました。\n \n  \n自分の家の間取りのことは、みんなそれぞれ必死で考えるのに、\n隣の家との「あいだ」を考えないのは、\n実は非常にもったいない。 \n土地を共同所有し、建物も合作するコーポラティブハウスは、ちょっと重いし、\n分譲区画に並んでいる建売にも魅力を感じないけど、\n注文住宅でフルオーダー！ってのも大変だ。\nブロック塀に囲まれた家も嫌だ。 \n”庭コーポラ”なら、家はコンパクトだとしても、\n家と家の「あいだ」に、\nもっと価値を出せる。 \n家と家の「あいだ」に、\nもっとたくさんの愛を。\n戸建ての家づくりにも、新しい選択肢を！ \nよろしければ、ご一緒にどうぞ。 \nーーー\n筑波ヤマオウproject\n庭コーポラってなに？導入編\n<<家と家・家と庭を考えるワークショップ>> \n＜日時＞\n①2月4日（土）18時〜20時半\n②2月5日（日）10時〜12時半\n※内容は同じです。どちらかにご参加ください。\n※参加申込状況により、開催回数は増減する可能性あります。 \n＜場所＞\nokatteにしおぎ /杉並区宮前5-9-8\nJR中央線「西荻窪」駅徒歩15分\n井の頭線「久我山」駅徒歩12分 \n＜持ちもの＞\n・筆記用具\n・はさみ（貸し出しもあります） \n＜定員＞\n8名（8組） \n＜主催＞\n筑波ヤマオウproject\n齊藤志野歩（まち暮らし不動産）\n篠原靖弘（まち暮らし不動産）\n木名瀬佳世（木名瀬佳世建築研究室）\n金谷聡史（カナデラボ） \n＜参加申込＞\nwelcome@n95.jp　に\n1）参加回（①または②。定員の都合上、どちらでも可の場合もお知らせ頂けると助かります）\n2）お名前\n3）人数\n4）メールアドレス\n5）当日の連絡先\nをお送りください。 \n■■■■■■■\n”庭コーポラ”でつくる、集落とともに暮らす家\n筑波ヤマオウprojectについて \nTXつくば駅から車で10分。市街地を抜け、里山をこえたところにある「大（おう）」地区。室町時代から続く旧家がお持ちの土地一角を分譲するプロジェクトです。コンパクトな4棟の住宅と、ゆるやかにつながる庭をつくります。 \n（予告）\n2017年2月〜\n庭コーポラってなあに？ワークショップ\n（東京・千葉・つくばで開催予定） \n2017年4月〜\n現地説明会開催 \n以降、購入予定者による建物同士の関係や庭づくりを考えるワークショップを経て、\n2018年初旬完成・入居予定。\n■■■■■■■
URL:https://machigurashi.jp/event/2017012511275931077
CATEGORIES:ワークショップ
ATTACH;FMTTYPE=image/jpeg:https://machigurashi.jp/wp-content/uploads/DSCN9445-scaled.jpg
END:VEVENT
END:VCALENDAR