BEGIN:VCALENDAR
VERSION:2.0
PRODID:-//machigurashi.jp - ECPv5.16.3.1//NONSGML v1.0//EN
CALSCALE:GREGORIAN
METHOD:PUBLISH
X-WR-CALNAME:machigurashi.jp
X-ORIGINAL-URL:https://machigurashi.jp
X-WR-CALDESC:machigurashi.jp のイベント
BEGIN:VTIMEZONE
TZID:Asia/Tokyo
BEGIN:STANDARD
TZOFFSETFROM:+0900
TZOFFSETTO:+0900
TZNAME:JST
DTSTART:20170101T000000
END:STANDARD
END:VTIMEZONE
BEGIN:VEVENT
DTSTART;TZID=Asia/Tokyo:20171017T190000
DTEND;TZID=Asia/Tokyo:20171017T213000
DTSTAMP:20260426T010019
CREATED:20171014T095701Z
LAST-MODIFIED:20171014T095836Z
UID:31398-1508266800-1508275800@machigurashi.jp
SUMMARY:パブリックコモンの学校（特別公開授業） 『未来の大家さんとの物語』
DESCRIPTION:こんにちは。\nまち暮らし不動産の齊藤と申します。 \nまち暮らし不動産は株式会社エヌキューテンゴ（N9.5）が運営する不動産会社です。 みかんハウス、 Okatteにしおぎ、 阿佐谷おたがいさま食堂、 西国図書室、 コトナハウス、 阿佐谷みずいろの家、エンジンズ、などなどの取り組みをしてきました。 \n■\nパブリックコモンの学校は2015年に、まち暮らし不動産が主催・コーディネーターを務めた連続講座。\n『私』と『公』の間にある、『まちの中の共有地（＝パブリックコモン）』について学び合うものでした。\nhttp://www.n95.jp/school \n2015年の講座終了後も、受講生同士やまち暮らし不動産も含めた学び合いは続き、スピンアウト企画の「スナック街場」や、同窓会なども行っています。 \n■\nさて、今回はその特別公開講座。\nここ数ヶ月、ある「未来の大家さん」と一緒に「これからの大家という生業」について考えてきたお話、させていただきます。 \nその、未来の大家さんは、石井さんといいまして。\n『ゆくゆくは、エコアパート(みたいなの)を作りたいんです』というご相談を、 ビオフォルム環境デザイン室の山田さんとともにお受けしたのが、私たちまち暮らし不動産でした。 \n石井さんは、神奈川県藤沢市生まれ。\n先代からゆくゆく土地建物含め「家」を引き継ぐことになる。大家という職業に可能性を感じ、手当たり次第に学ぶ日々。めちゃめちゃ気合入ってます。もう覚悟決めてるなんてかっこいい。だが、それなりに悩みも深い。 \nパーマカルチャー、エコロジー、\nコミュニティ、福祉、多世代、多様性、云々。 \nそんな言葉を言えば言うほど、なんだかふわふわしてしまう。\nほんとうに作りたいものって？\n50年後や100年後に引き継げるものって？\nそして、これまで先代が守って来たものは、何だったんだろう。 \n石井さん、山田さん、まち暮らし不動産はチームとなり、\n石井さんがこれから大家になるために、\n今できることを考えてきました。 \nーーー\nこの公開講座では、石井さんを含む私たちのチームの学び合いの過程(紆余曲折とも言う)をお話ししたいと思っています。同時に、その過程を経て、石井さんが、ご自身のこれからの大家像を宣言するという、とても★赤裸々★な内容。\nやーん、なんかちょっと恥ずかしいー。 \n石井さんと同じように、これから大家になる方や、\n悩める大家さん、\nだけでなく！ \n『まちの中の共有地(=パブリックコモン)』\nについて考えてみたい方や、 \n「これからはコミュニティですよね！」と、\n信じて疑わないあなたも。 \nよろしければ、ご一緒にどうぞ。 \n※イベントカバー写真は、ご自宅の裏の敷地で畑作業にチャレンジする石井さんです。 \n——————— \nパブリックコモンの学校（特別公開授業）\n『未来の大家さんとの物語』 \n◯日時：\n2017年10月17日（火）19:00〜21:30 \n◯場所：\n武蔵野プレイス/ 4F フォーラムA\nJR中央線「武蔵境駅」南口下車、徒歩1分 \n◯参加申込方法：\nFacebookイベントページで「参加」ボタン\nまたはメールにて welcome@n95.jp まで \n◯参加費：\n無料 \n◯内容（予定です。途中休憩あり。）\n1)はじめに　パブリックコモンってなんなのよ？\n2)未来の大家さんに考えて欲しい、キモチとカタチとプロジェクション\n3)未来の大家さんから\n4)まち暮らし不動産の対談：石井さんとの6ヶ月を振り返る \n◯主催\nまち暮らし不動産\nビオフォルム環境デザイン室\n石井　光 \n＜ご注意など＞\n・会場内はフタつきの飲み物（ペットボトルなど）以外の飲食はNGです。\n・武蔵野プレイス1Fに美味しいカフェがあります。お腹がグーとなりそうな方はどうぞ。\n・当日の様子を写真撮影させていただき刊行物やwbサイトになどに掲載させていただくことがあります。
URL:https://machigurashi.jp/event/2017101418570131398
LOCATION:武蔵野プレイス\, 境南町2-3-18\, 武蔵野市\, Tokyo\, 1800023\, Japan
CATEGORIES:パブリックコモンの学校
ATTACH;FMTTYPE=image/jpeg:https://machigurashi.jp/wp-content/uploads/d2e69245edb10deb9785ad474f0e48fc.jpg
END:VEVENT
END:VCALENDAR