BEGIN:VCALENDAR
VERSION:2.0
PRODID:-//machigurashi.jp - ECPv5.16.3.1//NONSGML v1.0//EN
CALSCALE:GREGORIAN
METHOD:PUBLISH
X-WR-CALNAME:machigurashi.jp
X-ORIGINAL-URL:https://machigurashi.jp
X-WR-CALDESC:machigurashi.jp のイベント
BEGIN:VTIMEZONE
TZID:Asia/Tokyo
BEGIN:STANDARD
TZOFFSETFROM:+0900
TZOFFSETTO:+0900
TZNAME:JST
DTSTART:20170101T000000
END:STANDARD
END:VTIMEZONE
BEGIN:VEVENT
DTSTART;TZID=Asia/Tokyo:20171123T133000
DTEND;TZID=Asia/Tokyo:20171123T160000
DTSTAMP:20260426T025556
CREATED:20171120T110719Z
LAST-MODIFIED:20171120T110719Z
UID:32483-1511443800-1511452800@machigurashi.jp
SUMMARY:ディスカバリーツアー #052 辻堂/未来の大家さんと一緒に
DESCRIPTION:まちと出会いなおすツアー。\nディスカバリーツアーにようこそ。 \n「パブリックコモンの学校 -未来の大家さんとの物語」\nhttps://www.facebook.com/events/856682981161231/\nにも登場いただいた、大家の石井さんと、辻堂を巡ります。 \nご自身のプロジェクトでつくる「敷地」の範囲だけでなく、\nその周りの「まち」との間に、ちいさな関係を積み重ねるには、\nまちのなかにある無数の物語に「気づくこと」から。 \nご一緒にどうぞ！ \n—\n【ディスカバリーツアーってどんなん？】\n大体こんな感じです。回によって、案内人によっても内容が違います。 \n（１）とりあえず集合\n（２）あいさつ\nツアー参加者は、初めまして同士です。軽く自己紹介など。 \n（３）行き先は「だいたいあっち方面」くらいです。\nどこを歩くか、どの物件にいくかは事前にお知らせしません。目的地ではなく、歩いているまちそのものを楽しんでもらえましたら。 \n（４）まちを案内するけれど、役にたつとはかぎりません。\n暮らしている人ならではのまち情報をお伝えすることもありますが、お値打ち・おすすめ！みたいなのは少ないかも。\n暮らしていて「ここが好き！」を案内人の独断と偏見で紹介してます。あまり役立たないことが多いです。 \n（５）そして物件の見学は・・・\n部屋探しでは、間取りをみて、家賃をみて、条件を精査してから内見しますが、ディスカバリーツアーでは、まったく逆。いきなり物件をみて、「あっ！ここにも部屋が！」「窓はこっちか！」・・・と発見していきます。家賃は恒例の「家賃当てクイズ」でみなさんに当ててもらいます。まちと不動産の目利きになるつもりで、ご一緒ください。 \n『家に住む』から『まちと暮らす』へ。\nまち暮らし不動産\n（案内人）おたのしみ。 \nーーー\n【ディスカバリーツアー#052 辻堂】\n2017年11月23日（木祝）13時30分〜16時00分\n13:30　集合　辻堂駅改札前\n16:00　解散　辻堂の街のどこかで解散\n参加費：500円\n持ち物：特にありません。歩きやすい靴でどうぞ。 \n【参加申込は以下のいずれかでお願いします】\n1)welcome@n95.jpにメール\n2)http://machigurashi.jp/about-discovery-tour のフォームから
URL:https://machigurashi.jp/event/2017112020071932483
CATEGORIES:ディスカバリーツアー
ATTACH;FMTTYPE=image/jpeg:https://machigurashi.jp/wp-content/uploads/2fcd54ff59e08f5e1825a8ac13a19942.jpg
END:VEVENT
END:VCALENDAR