BEGIN:VCALENDAR
VERSION:2.0
PRODID:-//machigurashi.jp - ECPv5.16.3.1//NONSGML v1.0//EN
CALSCALE:GREGORIAN
METHOD:PUBLISH
X-WR-CALNAME:machigurashi.jp
X-ORIGINAL-URL:https://machigurashi.jp
X-WR-CALDESC:machigurashi.jp のイベント
BEGIN:VTIMEZONE
TZID:Asia/Tokyo
BEGIN:STANDARD
TZOFFSETFROM:+0900
TZOFFSETTO:+0900
TZNAME:JST
DTSTART:20180101T000000
END:STANDARD
END:VTIMEZONE
BEGIN:VEVENT
DTSTART;TZID=Asia/Tokyo:20180225T160000
DTEND;TZID=Asia/Tokyo:20180225T200000
DTSTAMP:20260426T022723
CREATED:20180206T025427Z
LAST-MODIFIED:20180212T034330Z
UID:32540-1519574400-1519588800@machigurashi.jp
SUMMARY:【上映会＆トーク】ドイツと東京、まちの人とごはんを食べる場所の未来
DESCRIPTION:ドイツの地方都市ライプツィヒにある「日本の家」というスペースは、国籍も年齢も職業もことなる人々が集い、一緒にごはんを食べたりくつろいだりする、街の人々にとっての第二の家のような場所。\nこの場の共同代表であるドイツ在住の大谷悠さんが、東京・西荻窪にやってきます！\nしかもできたてほやほやの「日本の家」のドキュメンタリー映画をひっさげて…\n（http://djh-leipzig.de/ja/40m2_freiraum） \n■\nそしてそして今回の会場は、 Okatteにしおぎ。\n有料会員制のシェアキッチンに100人以上のメンバーがシェアして使いつつ、まちに開いています。\n大きなキッチンを中心に、住む人もおり、働くひともおり、普段使いにごはんをつくってたべる人もおり。\nさらにはイベントやワークショップを開いたりと、思い思いに。\nhttp://www.okatte-nishiogi.com\nhttp://share-living.jp/project/post10950/ \n■\n今回共同でイベントを主催する「シェアする暮らしのポータルサイト」は、世界中の ”持ち寄る暮らし” を集めたWebメディア。昨年「日本の家」の取材をしていらっしゃいます。そのときの記事がこちら。\nhttps://share-living.jp/food/post11379/\nそこで、ドイツ版ごはんの会（Volks Küche）にも参加してきました。https://www.facebook.com/share.living/posts/1465552783496467\nまちの中にぼくらの居る場所をつくることをテーマに、\n「都市」で開かれたスペースを運営する二人のトークイベント。\nご一緒にどうぞ。 \n  \n■ \nプログラム：\n＜第1部＞\n16:00-16:10\nごあいさつ　～山下ゆかりさん\n16:10-16:30\n「日本の家」とは？　～大谷悠さん\n16:30-17:30\n「日本の家」ドキュメンタリー映画　ダイジェスト版鑑賞\n17:30-18:30\nクロストーク　～大谷悠さん×齊藤志野歩さん\n＜第2部＞\n18:30-\n持ち寄りごはんの会（Volks Küche）\n※第2部のみの参加も可 \n  \n＋＋————————————————\n日時：2018年2月25日（日）　16:00から\n会場：okatteにしおぎ / 西荻窪駅南口より徒歩14分\n東京都杉並区宮前5-9-8\nhttp://www.okatte-nishiogi.com/ \n参加費：1\,500円（ご飯と味噌汁付、その他は持ち寄り）\n＋＋———————————————— \n  \n登壇者紹介：\n■大谷悠さん /ライプツィヒ「日本の家」共同代表\n——–\n2010年千葉大学建築学科修士課程修了。大学院卒業と同時にドイツに渡る。2011年5月ライプツィヒの空き家にて「日本の家」を立ち上げ、2012年2月より現職。2012年9月よりライプツィヒ大学博士課程所属。日欧の市民のボトムアップによる地域再生と都市コモンズをテーマに研究中。 \n  \n■齊藤志野歩 / まち暮らし不動産　代表\n——–\n株式会社エヌキューテンゴ（N9.5）代表取締役。\n不動産投資ベンチャーを経て現職。地域と関わりながら暮らすための不動産業、場づくりを伴う不動産開発を行い、阿佐谷みずいろの家、okatteにしおぎなどのプロジェクトを生み出す。阿佐谷おたがいさま食堂の発起人。 \n  \n■山下ゆかり　/モデレーター\n——–\n世界中の ”持ち寄る暮らし” を集めたWebメディア『シェアする暮らしのポータルサイト』編集者（http://share-living.jp/）。コレクティブハウス在住9年目、シェアハウス居住歴8年。はたらく3児の母（30代）。 \n  \n  \n企画・事務局：\nシェアする暮らしのポータルサイト＆まち暮らし不動産
URL:https://machigurashi.jp/event/2018020611542732540
LOCATION:okatteにしおぎ\, 宮前5-9-8\, 杉並区\, 東京都\, 168-0081\, Japan
ATTACH;FMTTYPE=image/png:https://machigurashi.jp/wp-content/uploads/e1b88fd0bc319ecee4d91d7b10d6aa79.png
END:VEVENT
END:VCALENDAR